BEGIN:VCALENDAR
VERSION:2.0
PRODID:-//Sascha Büttner Coaching - ECPv6.15.18//NONSGML v1.0//EN
CALSCALE:GREGORIAN
METHOD:PUBLISH
X-WR-CALNAME:Sascha Büttner Coaching
X-ORIGINAL-URL:https://saschabuettner.com
X-WR-CALDESC:Veranstaltungen für Sascha Büttner Coaching
REFRESH-INTERVAL;VALUE=DURATION:PT1H
X-Robots-Tag:noindex
X-PUBLISHED-TTL:PT1H
BEGIN:VTIMEZONE
TZID:Europe/Berlin
BEGIN:DAYLIGHT
TZOFFSETFROM:+0100
TZOFFSETTO:+0200
TZNAME:CEST
DTSTART:20230326T010000
END:DAYLIGHT
BEGIN:STANDARD
TZOFFSETFROM:+0200
TZOFFSETTO:+0100
TZNAME:CET
DTSTART:20231029T010000
END:STANDARD
BEGIN:DAYLIGHT
TZOFFSETFROM:+0100
TZOFFSETTO:+0200
TZNAME:CEST
DTSTART:20240331T010000
END:DAYLIGHT
BEGIN:STANDARD
TZOFFSETFROM:+0200
TZOFFSETTO:+0100
TZNAME:CET
DTSTART:20241027T010000
END:STANDARD
BEGIN:DAYLIGHT
TZOFFSETFROM:+0100
TZOFFSETTO:+0200
TZNAME:CEST
DTSTART:20250330T010000
END:DAYLIGHT
BEGIN:STANDARD
TZOFFSETFROM:+0200
TZOFFSETTO:+0100
TZNAME:CET
DTSTART:20251026T010000
END:STANDARD
END:VTIMEZONE
BEGIN:VEVENT
DTSTART;TZID=Europe/Berlin:20241205T183000
DTEND;TZID=Europe/Berlin:20241205T193000
DTSTAMP:20260423T003033
CREATED:20240804T145137Z
LAST-MODIFIED:20250101T151134Z
UID:10000106-1733423400-1733427000@saschabuettner.com
SUMMARY:Qigong der fünf Wandlungsphasen
DESCRIPTION:Mit Qigong zu mehr Lebensfreude und Gelassenheit\nQigong\, der uralte chinesische Pfad zu einem gesunden und stressfreien Leben\, entfaltet seine Magie durch eine harmonische Symbiose aus Körperhaltung\, Atmung\, Bewegung und Achtsamkeit. Diese Praxis bringt die verschiedenen Körperfunktionen ins Gleichgewicht\, baut Stress ab und aktiviert die körpereigenen Heilungskräfte. Die sanften\, fließenden Bewegungen des Qigong eröffnen einen Weg zu einem Leben\, das frei von Beschwerden\, erfüllt von Vitalität und Anmut\, sowie von Heiterkeit und Gelassenheit geprägt ist. \nIm Kurs widmen wir uns\, nach einem aufwärmenden Einstieg\, jeweils Übungen aus einem der fünf Elemente. Gemeinsam erkunden wir spielerisch die Prinzipien des Qigong und entdecken\, wie Sie diese mühelos in Ihren Alltag integrieren können.
URL:https://saschabuettner.com/event/qigong-der-fuenf-wandlungsphasen/2024-12-05/
LOCATION:Elbtal-Dorchheim\, Dorfgemeinschaftshaus\, Dorfstraße 1\, Elbtal\, Hessen\, 65627\, Deutschland
CATEGORIES:Qigong
END:VEVENT
BEGIN:VEVENT
DTSTART;TZID=Europe/Berlin:20241212T183000
DTEND;TZID=Europe/Berlin:20241212T193000
DTSTAMP:20260423T003033
CREATED:20240804T145137Z
LAST-MODIFIED:20250101T151134Z
UID:10000109-1734028200-1734031800@saschabuettner.com
SUMMARY:Qigong der fünf Wandlungsphasen
DESCRIPTION:Mit Qigong zu mehr Lebensfreude und Gelassenheit\nQigong\, der uralte chinesische Pfad zu einem gesunden und stressfreien Leben\, entfaltet seine Magie durch eine harmonische Symbiose aus Körperhaltung\, Atmung\, Bewegung und Achtsamkeit. Diese Praxis bringt die verschiedenen Körperfunktionen ins Gleichgewicht\, baut Stress ab und aktiviert die körpereigenen Heilungskräfte. Die sanften\, fließenden Bewegungen des Qigong eröffnen einen Weg zu einem Leben\, das frei von Beschwerden\, erfüllt von Vitalität und Anmut\, sowie von Heiterkeit und Gelassenheit geprägt ist. \nIm Kurs widmen wir uns\, nach einem aufwärmenden Einstieg\, jeweils Übungen aus einem der fünf Elemente. Gemeinsam erkunden wir spielerisch die Prinzipien des Qigong und entdecken\, wie Sie diese mühelos in Ihren Alltag integrieren können.
URL:https://saschabuettner.com/event/qigong-der-fuenf-wandlungsphasen/2024-12-12/
LOCATION:Elbtal-Dorchheim\, Dorfgemeinschaftshaus\, Dorfstraße 1\, Elbtal\, Hessen\, 65627\, Deutschland
CATEGORIES:Qigong
END:VEVENT
BEGIN:VEVENT
DTSTART;TZID=Europe/Berlin:20241219T183000
DTEND;TZID=Europe/Berlin:20241219T193000
DTSTAMP:20260423T003033
CREATED:20240804T145137Z
LAST-MODIFIED:20250101T151134Z
UID:10000110-1734633000-1734636600@saschabuettner.com
SUMMARY:Qigong der fünf Wandlungsphasen
DESCRIPTION:Mit Qigong zu mehr Lebensfreude und Gelassenheit\nQigong\, der uralte chinesische Pfad zu einem gesunden und stressfreien Leben\, entfaltet seine Magie durch eine harmonische Symbiose aus Körperhaltung\, Atmung\, Bewegung und Achtsamkeit. Diese Praxis bringt die verschiedenen Körperfunktionen ins Gleichgewicht\, baut Stress ab und aktiviert die körpereigenen Heilungskräfte. Die sanften\, fließenden Bewegungen des Qigong eröffnen einen Weg zu einem Leben\, das frei von Beschwerden\, erfüllt von Vitalität und Anmut\, sowie von Heiterkeit und Gelassenheit geprägt ist. \nIm Kurs widmen wir uns\, nach einem aufwärmenden Einstieg\, jeweils Übungen aus einem der fünf Elemente. Gemeinsam erkunden wir spielerisch die Prinzipien des Qigong und entdecken\, wie Sie diese mühelos in Ihren Alltag integrieren können.
URL:https://saschabuettner.com/event/qigong-der-fuenf-wandlungsphasen/2024-12-19/
LOCATION:Elbtal-Dorchheim\, Dorfgemeinschaftshaus\, Dorfstraße 1\, Elbtal\, Hessen\, 65627\, Deutschland
CATEGORIES:Qigong
END:VEVENT
END:VCALENDAR