BEGIN:VCALENDAR
VERSION:2.0
PRODID:-//Sascha Büttner Coaching - ECPv6.15.18//NONSGML v1.0//EN
CALSCALE:GREGORIAN
METHOD:PUBLISH
X-ORIGINAL-URL:https://saschabuettner.com
X-WR-CALDESC:Veranstaltungen für Sascha Büttner Coaching
REFRESH-INTERVAL;VALUE=DURATION:PT1H
X-Robots-Tag:noindex
X-PUBLISHED-TTL:PT1H
BEGIN:VTIMEZONE
TZID:Europe/Berlin
BEGIN:DAYLIGHT
TZOFFSETFROM:+0100
TZOFFSETTO:+0200
TZNAME:CEST
DTSTART:20220327T010000
END:DAYLIGHT
BEGIN:STANDARD
TZOFFSETFROM:+0200
TZOFFSETTO:+0100
TZNAME:CET
DTSTART:20221030T010000
END:STANDARD
BEGIN:DAYLIGHT
TZOFFSETFROM:+0100
TZOFFSETTO:+0200
TZNAME:CEST
DTSTART:20230326T010000
END:DAYLIGHT
BEGIN:STANDARD
TZOFFSETFROM:+0200
TZOFFSETTO:+0100
TZNAME:CET
DTSTART:20231029T010000
END:STANDARD
BEGIN:DAYLIGHT
TZOFFSETFROM:+0100
TZOFFSETTO:+0200
TZNAME:CEST
DTSTART:20240331T010000
END:DAYLIGHT
BEGIN:STANDARD
TZOFFSETFROM:+0200
TZOFFSETTO:+0100
TZNAME:CET
DTSTART:20241027T010000
END:STANDARD
END:VTIMEZONE
BEGIN:VEVENT
DTSTART;TZID=Europe/Berlin:20230803T180000
DTEND;TZID=Europe/Berlin:20230803T190000
DTSTAMP:20260424T173938
CREATED:20230508T150909Z
LAST-MODIFIED:20230901T074145Z
UID:10000012-1691085600-1691089200@saschabuettner.com
SUMMARY:Bewegung ohne Stress
DESCRIPTION:
URL:https://saschabuettner.com/event/bewegung-ohne-stress/2023-08-03/
LOCATION:Egenolf Park / Limburg a.d. Lahn\, Egenolfstraße 1a\, Limburg an der Lahn\, Hessen\, 65549
CATEGORIES:Qigong
GEO:50.380612;8.064414
X-APPLE-STRUCTURED-LOCATION;VALUE=URI;X-ADDRESS=Egenolf Park / Limburg a.d. Lahn Egenolfstraße 1a Limburg an der Lahn Hessen 65549;X-APPLE-RADIUS=500;X-TITLE=Egenolfstraße 1a:geo:8.064414,50.380612
END:VEVENT
BEGIN:VEVENT
DTSTART;TZID=Europe/Berlin:20230810T180000
DTEND;TZID=Europe/Berlin:20230810T190000
DTSTAMP:20260424T173938
CREATED:20230508T150909Z
LAST-MODIFIED:20230901T074145Z
UID:10000013-1691690400-1691694000@saschabuettner.com
SUMMARY:Bewegung ohne Stress
DESCRIPTION:
URL:https://saschabuettner.com/event/bewegung-ohne-stress/2023-08-10/
LOCATION:Egenolf Park / Limburg a.d. Lahn\, Egenolfstraße 1a\, Limburg an der Lahn\, Hessen\, 65549
CATEGORIES:Qigong
GEO:50.380612;8.064414
X-APPLE-STRUCTURED-LOCATION;VALUE=URI;X-ADDRESS=Egenolf Park / Limburg a.d. Lahn Egenolfstraße 1a Limburg an der Lahn Hessen 65549;X-APPLE-RADIUS=500;X-TITLE=Egenolfstraße 1a:geo:8.064414,50.380612
END:VEVENT
BEGIN:VEVENT
DTSTART;TZID=Europe/Berlin:20230817T180000
DTEND;TZID=Europe/Berlin:20230817T190000
DTSTAMP:20260424T173938
CREATED:20230508T150909Z
LAST-MODIFIED:20230901T074145Z
UID:10000014-1692295200-1692298800@saschabuettner.com
SUMMARY:Bewegung ohne Stress
DESCRIPTION:
URL:https://saschabuettner.com/event/bewegung-ohne-stress/2023-08-17/
LOCATION:Egenolf Park / Limburg a.d. Lahn\, Egenolfstraße 1a\, Limburg an der Lahn\, Hessen\, 65549
CATEGORIES:Qigong
GEO:50.380612;8.064414
X-APPLE-STRUCTURED-LOCATION;VALUE=URI;X-ADDRESS=Egenolf Park / Limburg a.d. Lahn Egenolfstraße 1a Limburg an der Lahn Hessen 65549;X-APPLE-RADIUS=500;X-TITLE=Egenolfstraße 1a:geo:8.064414,50.380612
END:VEVENT
BEGIN:VEVENT
DTSTART;TZID=Europe/Berlin:20230824T180000
DTEND;TZID=Europe/Berlin:20230824T190000
DTSTAMP:20260424T173938
CREATED:20230508T150909Z
LAST-MODIFIED:20230901T074145Z
UID:10000015-1692900000-1692903600@saschabuettner.com
SUMMARY:Bewegung ohne Stress
DESCRIPTION:
URL:https://saschabuettner.com/event/bewegung-ohne-stress/2023-08-24/
LOCATION:Egenolf Park / Limburg a.d. Lahn\, Egenolfstraße 1a\, Limburg an der Lahn\, Hessen\, 65549
CATEGORIES:Qigong
GEO:50.380612;8.064414
X-APPLE-STRUCTURED-LOCATION;VALUE=URI;X-ADDRESS=Egenolf Park / Limburg a.d. Lahn Egenolfstraße 1a Limburg an der Lahn Hessen 65549;X-APPLE-RADIUS=500;X-TITLE=Egenolfstraße 1a:geo:8.064414,50.380612
END:VEVENT
BEGIN:VEVENT
DTSTART;TZID=Europe/Berlin:20230831T180000
DTEND;TZID=Europe/Berlin:20230831T190000
DTSTAMP:20260424T173938
CREATED:20230508T150909Z
LAST-MODIFIED:20230901T074145Z
UID:10000016-1693504800-1693508400@saschabuettner.com
SUMMARY:Bewegung ohne Stress
DESCRIPTION:
URL:https://saschabuettner.com/event/bewegung-ohne-stress/2023-08-31/
LOCATION:Egenolf Park / Limburg a.d. Lahn\, Egenolfstraße 1a\, Limburg an der Lahn\, Hessen\, 65549
CATEGORIES:Qigong
GEO:50.380612;8.064414
X-APPLE-STRUCTURED-LOCATION;VALUE=URI;X-ADDRESS=Egenolf Park / Limburg a.d. Lahn Egenolfstraße 1a Limburg an der Lahn Hessen 65549;X-APPLE-RADIUS=500;X-TITLE=Egenolfstraße 1a:geo:8.064414,50.380612
END:VEVENT
END:VCALENDAR