BEGIN:VCALENDAR
VERSION:2.0
PRODID:-//Sascha Büttner Coaching - ECPv6.15.18//NONSGML v1.0//EN
CALSCALE:GREGORIAN
METHOD:PUBLISH
X-WR-CALNAME:Sascha Büttner Coaching
X-ORIGINAL-URL:https://saschabuettner.com
X-WR-CALDESC:Veranstaltungen für Sascha Büttner Coaching
REFRESH-INTERVAL;VALUE=DURATION:PT1H
X-Robots-Tag:noindex
X-PUBLISHED-TTL:PT1H
BEGIN:VTIMEZONE
TZID:Europe/Berlin
BEGIN:DAYLIGHT
TZOFFSETFROM:+0100
TZOFFSETTO:+0200
TZNAME:CEST
DTSTART:20220327T010000
END:DAYLIGHT
BEGIN:STANDARD
TZOFFSETFROM:+0200
TZOFFSETTO:+0100
TZNAME:CET
DTSTART:20221030T010000
END:STANDARD
BEGIN:DAYLIGHT
TZOFFSETFROM:+0100
TZOFFSETTO:+0200
TZNAME:CEST
DTSTART:20230326T010000
END:DAYLIGHT
BEGIN:STANDARD
TZOFFSETFROM:+0200
TZOFFSETTO:+0100
TZNAME:CET
DTSTART:20231029T010000
END:STANDARD
BEGIN:DAYLIGHT
TZOFFSETFROM:+0100
TZOFFSETTO:+0200
TZNAME:CEST
DTSTART:20240331T010000
END:DAYLIGHT
BEGIN:STANDARD
TZOFFSETFROM:+0200
TZOFFSETTO:+0100
TZNAME:CET
DTSTART:20241027T010000
END:STANDARD
END:VTIMEZONE
BEGIN:VEVENT
DTSTART;TZID=Europe/Berlin:20230907T180000
DTEND;TZID=Europe/Berlin:20230907T190000
DTSTAMP:20260424T153840
CREATED:20230508T150909Z
LAST-MODIFIED:20230901T074145Z
UID:10000021-1694109600-1694113200@saschabuettner.com
SUMMARY:Bewegung ohne Stress
DESCRIPTION:
URL:https://saschabuettner.com/event/bewegung-ohne-stress/2023-09-07/
LOCATION:Egenolf Park / Limburg a.d. Lahn\, Egenolfstraße 1a\, Limburg an der Lahn\, Hessen\, 65549
CATEGORIES:Qigong
GEO:50.380612;8.064414
X-APPLE-STRUCTURED-LOCATION;VALUE=URI;X-ADDRESS=Egenolf Park / Limburg a.d. Lahn Egenolfstraße 1a Limburg an der Lahn Hessen 65549;X-APPLE-RADIUS=500;X-TITLE=Egenolfstraße 1a:geo:8.064414,50.380612
END:VEVENT
BEGIN:VEVENT
DTSTART;TZID=Europe/Berlin:20230914T180000
DTEND;TZID=Europe/Berlin:20230914T190000
DTSTAMP:20260424T153840
CREATED:20230508T150909Z
LAST-MODIFIED:20230901T074145Z
UID:10000022-1694714400-1694718000@saschabuettner.com
SUMMARY:Bewegung ohne Stress
DESCRIPTION:
URL:https://saschabuettner.com/event/bewegung-ohne-stress/2023-09-14/
LOCATION:Egenolf Park / Limburg a.d. Lahn\, Egenolfstraße 1a\, Limburg an der Lahn\, Hessen\, 65549
CATEGORIES:Qigong
GEO:50.380612;8.064414
X-APPLE-STRUCTURED-LOCATION;VALUE=URI;X-ADDRESS=Egenolf Park / Limburg a.d. Lahn Egenolfstraße 1a Limburg an der Lahn Hessen 65549;X-APPLE-RADIUS=500;X-TITLE=Egenolfstraße 1a:geo:8.064414,50.380612
END:VEVENT
END:VCALENDAR