BEGIN:VCALENDAR
VERSION:2.0
PRODID:-//Sascha Büttner Coaching - ECPv6.15.18//NONSGML v1.0//EN
CALSCALE:GREGORIAN
METHOD:PUBLISH
X-WR-CALNAME:Sascha Büttner Coaching
X-ORIGINAL-URL:https://saschabuettner.com
X-WR-CALDESC:Veranstaltungen für Sascha Büttner Coaching
REFRESH-INTERVAL;VALUE=DURATION:PT1H
X-Robots-Tag:noindex
X-PUBLISHED-TTL:PT1H
BEGIN:VTIMEZONE
TZID:Europe/Berlin
BEGIN:DAYLIGHT
TZOFFSETFROM:+0100
TZOFFSETTO:+0200
TZNAME:CEST
DTSTART:20220327T010000
END:DAYLIGHT
BEGIN:STANDARD
TZOFFSETFROM:+0200
TZOFFSETTO:+0100
TZNAME:CET
DTSTART:20221030T010000
END:STANDARD
BEGIN:DAYLIGHT
TZOFFSETFROM:+0100
TZOFFSETTO:+0200
TZNAME:CEST
DTSTART:20230326T010000
END:DAYLIGHT
BEGIN:STANDARD
TZOFFSETFROM:+0200
TZOFFSETTO:+0100
TZNAME:CET
DTSTART:20231029T010000
END:STANDARD
BEGIN:DAYLIGHT
TZOFFSETFROM:+0100
TZOFFSETTO:+0200
TZNAME:CEST
DTSTART:20240331T010000
END:DAYLIGHT
BEGIN:STANDARD
TZOFFSETFROM:+0200
TZOFFSETTO:+0100
TZNAME:CET
DTSTART:20241027T010000
END:STANDARD
BEGIN:DAYLIGHT
TZOFFSETFROM:+0100
TZOFFSETTO:+0200
TZNAME:CEST
DTSTART:20250330T010000
END:DAYLIGHT
BEGIN:STANDARD
TZOFFSETFROM:+0200
TZOFFSETTO:+0100
TZNAME:CET
DTSTART:20251026T010000
END:STANDARD
BEGIN:DAYLIGHT
TZOFFSETFROM:+0100
TZOFFSETTO:+0200
TZNAME:CEST
DTSTART:20260329T010000
END:DAYLIGHT
BEGIN:STANDARD
TZOFFSETFROM:+0200
TZOFFSETTO:+0100
TZNAME:CET
DTSTART:20261025T010000
END:STANDARD
END:VTIMEZONE
BEGIN:VEVENT
DTSTART;TZID=Europe/Berlin:20250123T183000
DTEND;TZID=Europe/Berlin:20250123T193000
DTSTAMP:20260421T152755
CREATED:20240804T145137Z
LAST-MODIFIED:20250101T151134Z
UID:10000186-1737657000-1737660600@saschabuettner.com
SUMMARY:Qigong der fünf Wandlungsphasen
DESCRIPTION:Mit Qigong zu mehr Lebensfreude und Gelassenheit\nQigong\, der uralte chinesische Pfad zu einem gesunden und stressfreien Leben\, entfaltet seine Magie durch eine harmonische Symbiose aus Körperhaltung\, Atmung\, Bewegung und Achtsamkeit. Diese Praxis bringt die verschiedenen Körperfunktionen ins Gleichgewicht\, baut Stress ab und aktiviert die körpereigenen Heilungskräfte. Die sanften\, fließenden Bewegungen des Qigong eröffnen einen Weg zu einem Leben\, das frei von Beschwerden\, erfüllt von Vitalität und Anmut\, sowie von Heiterkeit und Gelassenheit geprägt ist. \nIm Kurs widmen wir uns\, nach einem aufwärmenden Einstieg\, jeweils Übungen aus einem der fünf Elemente. Gemeinsam erkunden wir spielerisch die Prinzipien des Qigong und entdecken\, wie Sie diese mühelos in Ihren Alltag integrieren können.
URL:https://saschabuettner.com/event/qigong-der-fuenf-wandlungsphasen/2025-01-23/
LOCATION:Elbtal-Dorchheim\, Dorfgemeinschaftshaus\, Dorfstraße 1\, Elbtal\, Hessen\, 65627\, Deutschland
CATEGORIES:Qigong
END:VEVENT
BEGIN:VEVENT
DTSTART;TZID=Europe/Berlin:20240502T183000
DTEND;TZID=Europe/Berlin:20240502T193000
DTSTAMP:20260421T152755
CREATED:20240128T124733Z
LAST-MODIFIED:20240224T114224Z
UID:10000074-1714674600-1714678200@saschabuettner.com
SUMMARY:Fünf Elemente Qi Gong
DESCRIPTION:Qigong ist der chinesische Weg zu einem gesunden\, stressfreien Leben zu kommen.\nDurch Körperhaltung\, Atmung\, Bewegungs- und Achtsamkeitsübungen werden die verschiedenen Körperfunktionen ins Gleichgewicht gebracht\, Stress wird abgebaut und die körpereigenen Heilungskräfte werden angeregt. Die sanften Bewegungen des Qigong zeigen einen Weg\n– beschwerdefrei\, – stressfrei\, – vital und anmutig\, – heiter und gelassen zu leben! \nIm Kurs werden wir uns neben dem Aufwärmset jeweils Übungen aus einem der 5 Elemente anschauen und gemeinsam durchführen. Dabei erfahren wir spielerisch die Prinzipien des Qi Gongs und wie Sie diese in Ihren Alltag integrieren können. \nDer Kurs kann über die KVHS Limburg-Weilburg gebucht werden: Buchen  (Warteliste)
URL:https://saschabuettner.com/event/fuenf-elemente-qi-gong/2024-05-02/
LOCATION:Elbtal-Dorchheim\, Dorfgemeinschaftshaus\, Dorfstraße 1\, Elbtal\, Hessen\, 65627\, Deutschland
CATEGORIES:Qigong
ATTACH;FMTTYPE=image/jpeg:https://saschabuettner.com/wp-content/uploads/2017/09/freelance-girl-relax.jpg
END:VEVENT
BEGIN:VEVENT
DTSTART;TZID=Europe/Berlin:20231026T183000
DTEND;TZID=Europe/Berlin:20231026T193000
DTSTAMP:20260421T152755
CREATED:20230911T090917Z
LAST-MODIFIED:20231002T151701Z
UID:10000034-1698345000-1698348600@saschabuettner.com
SUMMARY:Schnupperkurs Qigong
DESCRIPTION:5 Elemente Qi Gong\nAn Fünf Donnertagen gebe ich einen Einblicke in das 5 Elemente Qi Gong. \nQi Gong ist der chinesische Weg zu einem gesunden\, stressfreien Leben zu kommen.\nDurch Körperhaltung\, Atmung\, Bewegungs- und Achtsamkeitsübungen werden die verschiedenen Körperfunktionen ins Gleichgewicht gebracht\, Stress wird abgebaut und die körpereigenen Heilungskräfte werden angeregt. \nIn jeder Kursstunde werden wir uns gemeinsam Bewegungsabfolgen aus dem 5 Elemente Qi Gong näher anschauen und auf diese Weise die Wandlungsphasen der 5 Elemente (Holz\, Feuer\, Erde\, Metall und Wasser) einüben. \nDen Kurs gebe ich in Kooperation mit der Kreisvolkshochschule in Limburg Weilburg. Anmeldungen sind daher nur über die Webseite der KVHS möglich: Schnupperkurs Qi Gong – KVHS Limburg-Weilburg
URL:https://saschabuettner.com/event/schnupperkurs-qi-gong/2023-10-26/
LOCATION:Elbtal-Dorchheim\, Dorfgemeinschaftshaus\, Dorfstraße 1\, Elbtal\, Hessen\, 65627\, Deutschland
CATEGORIES:Qigong
END:VEVENT
END:VCALENDAR